View In:
ArcGIS JavaScript
ArcGIS Online Map Viewer
ArcGIS Earth
ArcGIS Pro
Service Description: <div style='text-align:Left;font-size:12pt'><div><div><p><span>The dataset consists of tiled orthogonal imagery produced from nadir images captured by Pictometry International. Flights were flown Spring 2026.</span></p><p><span /></p><p><span>Projected Coordinate System: WGS 1984 Web Mercator (Auxiliary Sphere)</span></p><p><span>WKID: 3857</span></p></div></div></div>
Map Name: Aerial2026
Legend
All Layers and Tables
Dynamic Legend
Dynamic All Layers
Layers:
Description: The dataset consists of tiled orthogonal imagery produced from nadir images captured by Pictometry International. Flights were flown Spring 2026.Projected Coordinate System: WGS 1984 Web Mercator (Auxiliary Sphere)WKID: 3857
Service Item Id: 38be44426d9344b89803df2d3675c46d
Copyright Text: City of Lincoln/Lancaster County
Spatial Reference:
102100
(3857)
LatestVCSWkid(0)
Single Fused Map Cache: true
Tile Info:
- Height: 256.0
- Width: 256.0
- DPI: 96.0
-
Levels of Detail: 24
-
Level ID: 1
[ Start Tile, End Tile ]
- Resolution: 78271.5169639999
- Scale: 2.95828763795777E8
-
Level ID: 2
[ Start Tile, End Tile ]
- Resolution: 39135.7584820001
- Scale: 1.47914381897889E8
-
Level ID: 3
[ Start Tile, End Tile ]
- Resolution: 19567.8792409999
- Scale: 7.3957190948944E7
-
Level ID: 4
[ Start Tile, End Tile ]
- Resolution: 9783.93962049996
- Scale: 3.6978595474472E7
-
Level ID: 5
[ Start Tile, End Tile ]
- Resolution: 4891.96981024998
- Scale: 1.8489297737236E7
- Format: MIXED
- Compression Quality: 75.0
- Origin: X: -2.0037508342787E7
Y: 2.0037508342787E7
- Spatial Reference: 102100
(3857)
LatestVCSWkid(0)
Storage Info:
- Storage Format: esriMapCacheStorageModeCompactV2
- Packet Size: 128
Initial Extent:
XMin: -1.0835827105343282E7
YMin: 4933817.166928985
XMax: -1.0698775513628148E7
YMax: 5022636.99379624
Spatial Reference: 102100
(3857)
LatestVCSWkid(0)
Full Extent:
XMin: -1.07892263423E7
YMin: 4941487.347331525
XMax: -1.0738162875427831E7
YMax: 5019283.8825
Spatial Reference: 102100
(3857)
LatestVCSWkid(0)
Units: esriMeters
Supported Image Format Types: PNG32,PNG24,PNG,JPG,DIB,TIFF,EMF,PS,PDF,GIF,SVG,SVGZ,BMP
Document Info:
Title: Aerial2026
Author:
Comments: The dataset consists of tiled orthogonal imagery produced from nadir images captured by Pictometry International. Flights were flown Spring 2026.Projected Coordinate System: WGS 1984 Web Mercator (Auxiliary Sphere)WKID: 3857
Subject: Dataset showing 2026 aerial imagery for Lancaster County.
Category:
Keywords: Nebraska,Lancaster,Lincoln,Aerial,2026
AntialiasingMode: Fast
TextAntialiasingMode: Force
Supports Dynamic Layers: true
Resampling: true
MaxRecordCount: 2000
MaxSelectionCount: 2000
MaxImageHeight: 4096
MaxImageWidth: 4096
Supported Query Formats: JSON, geoJSON, PBF
Supports Query Data Elements: true
Min Scale: 2311162.217155
Max Scale: 0
Min LOD: 9
Max LOD: 22
Supports Datum Transformation: true
Child Resources:
Info
Dynamic Layer
Supported Operations:
Export Map
Identify
QueryLegends
QueryDomains
Find
Return Updates